BEGIN:VCALENDAR
VERSION:2.0
PRODID:-//O Pinhal - ECPv6.2.8.1//NONSGML v1.0//EN
CALSCALE:GREGORIAN
METHOD:PUBLISH
X-ORIGINAL-URL:https://ctopinhal.com
X-WR-CALDESC:Events for O Pinhal
REFRESH-INTERVAL;VALUE=DURATION:PT1H
X-Robots-Tag:noindex
X-PUBLISHED-TTL:PT1H
BEGIN:VTIMEZONE
TZID:UTC
BEGIN:STANDARD
TZOFFSETFROM:+0000
TZOFFSETTO:+0000
TZNAME:UTC
DTSTART:20260101T000000
END:STANDARD
END:VTIMEZONE
BEGIN:VEVENT
DTSTART;VALUE=DATE:20260606
DTEND;VALUE=DATE:20260607
DTSTAMP:20260424T223552
CREATED:20260130T112012Z
LAST-MODIFIED:20260321T142442Z
UID:7563-1780704000-1780790399@ctopinhal.com
SUMMARY:30º ANIVERSÁRIO CLUBE DE TIRO O PINHAL FU
DESCRIPTION:
URL:https://ctopinhal.com/event/30o-aniversario-clube-de-tiro-o-pinhal/
LOCATION:Clube de Tiro “O Pinhal”\, Vales de Pêra\, Pêra\, 8365-208 Pêra\, Portugal
CATEGORIES:Eventos,Events
END:VEVENT
END:VCALENDAR